BEGIN:VCALENDAR
VERSION:2.0
PRODID:-//IALEIA Jamaica Chapter - ECPv6.15.20//NONSGML v1.0//EN
CALSCALE:GREGORIAN
METHOD:PUBLISH
X-WR-CALNAME:IALEIA Jamaica Chapter
X-ORIGINAL-URL:https://www.ialeiajm.com
X-WR-CALDESC:Events for IALEIA Jamaica Chapter
REFRESH-INTERVAL;VALUE=DURATION:PT1H
X-Robots-Tag:noindex
X-PUBLISHED-TTL:PT1H
BEGIN:VTIMEZONE
TZID:UTC
BEGIN:STANDARD
TZOFFSETFROM:+0000
TZOFFSETTO:+0000
TZNAME:UTC
DTSTART:20220101T000000
END:STANDARD
END:VTIMEZONE
BEGIN:VEVENT
DTSTART;TZID=UTC:20230706T103000
DTEND;TZID=UTC:20230706T123000
DTSTAMP:20260426T033834
CREATED:20230629T161201Z
LAST-MODIFIED:20230629T161252Z
UID:846-1688639400-1688646600@www.ialeiajm.com
SUMMARY:IALEIA Jamaica Chapter Meeting – Thursday July 6\, 2023
DESCRIPTION:A virtual Chapter meeting is scheduled for Thursday July 6\, 2023\, from 10:30 AM to 12:30 PM via the “Go To Meeting” platform. The Guest Presenter will be Mr. Paul Hart of the United Kingdom National Crime Agency (NCA). The Presentation is titled “Intelligence Analysis in the NCA”.
URL:https://www.ialeiajm.com/event/ialeia-jamaica-chapter-meeting-thursday-july-6-2023/
LOCATION:Virtual
CATEGORIES:IALEIA - Jamaica Chapter
END:VEVENT
END:VCALENDAR