BEGIN:VCALENDAR
VERSION:2.0
PRODID:-//IALEIA Jamaica Chapter - ECPv6.15.20//NONSGML v1.0//EN
CALSCALE:GREGORIAN
METHOD:PUBLISH
X-WR-CALNAME:IALEIA Jamaica Chapter
X-ORIGINAL-URL:https://www.ialeiajm.com
X-WR-CALDESC:Events for IALEIA Jamaica Chapter
REFRESH-INTERVAL;VALUE=DURATION:PT1H
X-Robots-Tag:noindex
X-PUBLISHED-TTL:PT1H
BEGIN:VTIMEZONE
TZID:UTC
BEGIN:STANDARD
TZOFFSETFROM:+0000
TZOFFSETTO:+0000
TZNAME:UTC
DTSTART:20240101T000000
END:STANDARD
END:VTIMEZONE
BEGIN:VEVENT
DTSTART;TZID=UTC:20250122T140000
DTEND;TZID=UTC:20250122T163000
DTSTAMP:20260424T193003
CREATED:20250113T141734Z
LAST-MODIFIED:20250114T205519Z
UID:1056-1737554400-1737563400@www.ialeiajm.com
SUMMARY:IALEIA Jamaica Chapter Virtual Meeting – Wednesday January 22\, 2025
DESCRIPTION:Presentation by the IALEIA President\, FIAT and Invitation to the IALEIA Jamaica Chapter Virtual Meeting – Wednesday\, January 22\, 2025 \n  \nGreetings to all Members and Prospective Members of the IALEIA Jamaica Chapter. \nThe IALEIA Jamaica Chapter will be hosting a special virtual Chapter Meeting. The Key Details are as follows: \n\nDate: Wednesday\, January 22\, 2025 \nTime: 02:00 PM – 04:30 PM (EST)\nLocation: Online\nGuest Presenter: Mr. David McClocklin C.I.C.A.\, President of IALEIA – “The Use of Analysis in the Courtroom”\nMeeting Link: To be provided\n\nThe IALEIA Jamaica Chapter is honoured to have Mr. McClocklin as a Guest Presenter. Mr. McClocklin has served as President of IALEIA since July 2023. He is a longstanding member of IALEIA\, having joined over 18 years ago. He has a rich history with the organisation\, including roles as Foundations of Intelligence Analysis (FIAT) course Instructor since 2006 and former Director of Professional Development. \nPrior to his leadership at IALEIA\, Mr. McClocklin had a distinguished career with the Ontario Provincial Police spanning over 38 years. He served as an Intelligence Officer and Senior Tactical Analyst specializing in major crimes\, including homicides\, internal investigations\, and special investigations for the Office of the Commissioner. He also held the position of Liaison Officer with the Criminal Intelligence Service of Ontario (CISO) under the Criminal Intelligence Service Canada (CISC). \nMr. McClocklin has made significant contributions to the field. Notably\, he is a co-founder of the 1992 “PHONEBUSTERS” project\, which evolved into the Canadian Anti-Fraud Centre under the RCMP. He also possesses extensive experience in all three analytical units within the Provincial Operations Intelligence Bureau General Headquarters (Strategic\, Tactical and Operational).  \nThe presentation is expected to be informative and exceptional. Please see the attached Meeting Agenda. Details on how to join the meeting will be provided in short order.
URL:https://www.ialeiajm.com/event/ialeia-jamaica-chapter-virtual-meeting-wednesday-january-22-2025/
LOCATION:Virtual
CATEGORIES:IALEIA - Jamaica Chapter
END:VEVENT
END:VCALENDAR