BEGIN:VCALENDAR
VERSION:2.0
PRODID:-//IALEIA Jamaica Chapter - ECPv6.15.20//NONSGML v1.0//EN
CALSCALE:GREGORIAN
METHOD:PUBLISH
X-ORIGINAL-URL:https://www.ialeiajm.com
X-WR-CALDESC:Events for IALEIA Jamaica Chapter
REFRESH-INTERVAL;VALUE=DURATION:PT1H
X-Robots-Tag:noindex
X-PUBLISHED-TTL:PT1H
BEGIN:VTIMEZONE
TZID:UTC
BEGIN:STANDARD
TZOFFSETFROM:+0000
TZOFFSETTO:+0000
TZNAME:UTC
DTSTART:20240101T000000
END:STANDARD
END:VTIMEZONE
BEGIN:VEVENT
DTSTART;TZID=UTC:20251112T100000
DTEND;TZID=UTC:20251112T123000
DTSTAMP:20260424T022751
CREATED:20251022T193643Z
LAST-MODIFIED:20251022T193643Z
UID:1258-1762941600-1762950600@www.ialeiajm.com
SUMMARY:IALEIA Jamaica Chapter Quarterly Meeting
DESCRIPTION:IALEIA Jamaica Chapter updates and presentation by a Guest Speaker. 
URL:https://www.ialeiajm.com/event/ialeia-jamaica-chapter-quarterly-meeting/
LOCATION:Virtual
END:VEVENT
END:VCALENDAR