BEGIN:VCALENDAR
VERSION:2.0
PRODID:-//IALEIA Jamaica Chapter - ECPv6.15.20//NONSGML v1.0//EN
CALSCALE:GREGORIAN
METHOD:PUBLISH
X-WR-CALNAME:IALEIA Jamaica Chapter
X-ORIGINAL-URL:https://www.ialeiajm.com
X-WR-CALDESC:Events for IALEIA Jamaica Chapter
REFRESH-INTERVAL;VALUE=DURATION:PT1H
X-Robots-Tag:noindex
X-PUBLISHED-TTL:PT1H
BEGIN:VTIMEZONE
TZID:UTC
BEGIN:STANDARD
TZOFFSETFROM:+0000
TZOFFSETTO:+0000
TZNAME:UTC
DTSTART:20230101T000000
END:STANDARD
END:VTIMEZONE
BEGIN:VEVENT
DTSTART;TZID=UTC:20240321T080000
DTEND;TZID=UTC:20240321T170000
DTSTAMP:20260425T135720
CREATED:20231117T153532Z
LAST-MODIFIED:20240108T234002Z
UID:868-1711008000-1711040400@www.ialeiajm.com
SUMMARY:IALEIA Jamaica Chapter Annual Seminar
DESCRIPTION:The IALEIA Jamaica Chapter will host an in-person IALEIA Jamaica Chapter Annual Seminar in March 2024.
URL:https://www.ialeiajm.com/event/ialeia-jamaica-chapter-annual-seminar/
CATEGORIES:IALEIA - Jamaica Chapter
END:VEVENT
END:VCALENDAR