BEGIN:VCALENDAR
VERSION:2.0
PRODID:-//IALEIA Jamaica Chapter - ECPv6.15.20//NONSGML v1.0//EN
CALSCALE:GREGORIAN
METHOD:PUBLISH
X-WR-CALNAME:IALEIA Jamaica Chapter
X-ORIGINAL-URL:https://www.ialeiajm.com
X-WR-CALDESC:Events for IALEIA Jamaica Chapter
REFRESH-INTERVAL;VALUE=DURATION:PT1H
X-Robots-Tag:noindex
X-PUBLISHED-TTL:PT1H
BEGIN:VTIMEZONE
TZID:UTC
BEGIN:STANDARD
TZOFFSETFROM:+0000
TZOFFSETTO:+0000
TZNAME:UTC
DTSTART:20240101T000000
END:STANDARD
END:VTIMEZONE
BEGIN:VEVENT
DTSTART;VALUE=DATE:20250123
DTEND;VALUE=DATE:20250124
DTSTAMP:20260424T232429
CREATED:20241117T235632Z
LAST-MODIFIED:20250121T223533Z
UID:1043-1737590400-1737676799@www.ialeiajm.com
SUMMARY:IALEIA Jamaica Chapter Annual Conference - Thursday January 23\, 2025
DESCRIPTION:Greetings Members and Prospective Members of the International Association of Law Enforcement Intelligence Analysts (IALEIA) Jamaica Chapter. \nWe are pleased to announce that the 2025 IALEIA Jamaica Chapter Conference will take place on Thursday\, January 23\, 2025\, at the AC Hotel in Kingston\, Jamaica. The event will run from 08:00 AM to 04:30 PM. \nThe theme of this year’s Conference is: “Analysis and the role of Analysts in Law Enforcement for the 21st Century.” \nThe Conference will feature presentations by distinguished experts in their respective fields\, offering timely and valuable insights into the evolving role of analysis in law enforcement. \nThe Main Address at the Conference will be delivered by Mr. David McClocklin C.I.C.A.\, President of IALEIA. \nA forum will also be held to discuss current developments in the field and to share the Chapter’s vision for the future. \nKey Details: \n∙         Date: Thursday\, January 23\, 2025 \n∙         Time: 08:00 AM to 04:30 PM \n∙         Location: AC Hotel\, Kingston\, Jamaica \n∙         Cost: Free. Only registered personnel will be allowed. \n∙         Amenities: Lunch and coffee will be provided \nWe look forward to your participation as we come together to share knowledge\, foster collaboration and shape the future of law enforcement intelligence analysis in the Caribbean. \n  \n23012025 - Opening Ceremony Schedule - IALEIA Jamaica Chapter Annual Conference\n  \n23012025 - Conference Schedule - IALEIA Jamaica Chapter Annual Conference
URL:https://www.ialeiajm.com/event/ialeia-jamaica-chapter-annual-conference-january-2025/
CATEGORIES:IALEIA - Jamaica Chapter
END:VEVENT
END:VCALENDAR