BEGIN:VCALENDAR
VERSION:2.0
PRODID:-//IALEIA Jamaica Chapter - ECPv6.15.20//NONSGML v1.0//EN
CALSCALE:GREGORIAN
METHOD:PUBLISH
X-ORIGINAL-URL:https://www.ialeiajm.com
X-WR-CALDESC:Events for IALEIA Jamaica Chapter
REFRESH-INTERVAL;VALUE=DURATION:PT1H
X-Robots-Tag:noindex
X-PUBLISHED-TTL:PT1H
BEGIN:VTIMEZONE
TZID:UTC
BEGIN:STANDARD
TZOFFSETFROM:+0000
TZOFFSETTO:+0000
TZNAME:UTC
DTSTART:20180101T000000
END:STANDARD
END:VTIMEZONE
BEGIN:VEVENT
DTSTART;TZID=UTC:20210325T130000
DTEND;TZID=UTC:20210325T140000
DTSTAMP:20260424T011205
CREATED:20210311T145845Z
LAST-MODIFIED:20210311T145845Z
UID:722-1616677200-1616680800@www.ialeiajm.com
SUMMARY:IALEIA Webinar Series - Social Network Analysis
DESCRIPTION:The IALEIA – Social Network Analysis webinar is scheduled to take place on March 25\, 2021 at 1:00 p.m. EDT.\n \nOver the past 20 years\, social network analysis (SNA) has transformed our conceptualization of crime and delinquency.  After properly defining SNA\, the training focuses on  lessons learned as well as how to create your own network-informed project using existing criminal intelligence and law enforcement data.\n \nPresenter Biography \nMartin Bouchard is a Professor of Criminology at Simon Fraser University\, where he leads the Crime and Illicit Networks Laboratory. Dr. Bouchard’s research focuses on the dynamics of illicit markets\, as well as the role of social networks in a variety of criminal phenomena\, including street gangs and organized crime. He has published over 100 peer-reviewed articles and book chapters on these topics over the last 15 years. Dr. Bouchard has a long track record of successful collaborations with law enforcement agencies\, most notably in facilitating the integration of network methods in criminal intelligence analysis.  Personal website: mbcriminology.com; Twitter: @MBouchardCrim\n \nInterested members should register via Eventbrite. \nWe look forward to everyone joining us!\n \nThe IALEIA Board
URL:https://www.ialeiajm.com/event/ialeia-webinar-series-social-network-analysis/
CATEGORIES:IALEIA
END:VEVENT
BEGIN:VEVENT
DTSTART;TZID=UTC:20210225T130000
DTEND;TZID=UTC:20210225T140000
DTSTAMP:20260424T011205
CREATED:20210211T150843Z
LAST-MODIFIED:20210211T150843Z
UID:713-1614258000-1614261600@www.ialeiajm.com
SUMMARY:IALEIA Training Series - Session 2 - Call Records Data Analysis
DESCRIPTION:Call Records Data Analysis \nThis virtual event is designed for members of the IALEIA community to gain an understanding of the analytical questions that must be answered when analyzing a subject’s call records data. \nPresented by our global training partners\, Cloudbreak Analysis\, we look at a range of techniques to answer those questions using three popular analytical tools: Excel\, IBM i2 Analyst’s Notebook\, and Chorus Analyze. \nIt will be streamed using Teams Live Events and an internet connection and browser is all that is required to attend. \nOnce registered\, a link enabling you to access the event will be sent out a few days before February 25th. \n  \nDate And Time\n\nThu\, February 25\, 2021 \n1:00 PM – 2:00 PM -05 \n\n 
URL:https://www.ialeiajm.com/event/ialeia-training-series-session-2-call-records-data-analysis/
CATEGORIES:IALEIA
END:VEVENT
BEGIN:VEVENT
DTSTART;TZID=UTC:20210128T130000
DTEND;TZID=UTC:20210128T140000
DTSTAMP:20260424T011205
CREATED:20210117T213208Z
LAST-MODIFIED:20210117T213208Z
UID:704-1611838800-1611842400@www.ialeiajm.com
SUMMARY:Webinar - The Analytical Cycle
DESCRIPTION:IALEIA is proud to announce the launch of a new webinar series.  This free-to-attend series of 6 webinars has been prepared in conjunction with our corporate partner\, Chorus Intelligence.  These 1 hour sessions will provide an overview of several key aspects of the intelligence field: the Analytical Cycle; Communication Analysis; Social Network Analysis; Financial Analysis; Human Trafficking; and Gangs.\n \nThe first in this series\, the Analytical Cycle\, is scheduled to take place on January 28\, 2021 at 1:00 p.m. EST.\n \nThis virtual event is designed for members of the IALEIA community to gain a basic understanding of the intelligence cycle\, from information collection through dissemination.  The event will walk you through each of the analytical stages with special emphasis on Data Collection\, Data Development/Processing\, and Dissemination.\n \nInterested members should register via Eventbrite.\n \nWe look forward to everyone joining us!\n \nThe IALEIA Board
URL:https://www.ialeiajm.com/event/webinar-the-analytical-cycle/
CATEGORIES:IALEIA
END:VEVENT
BEGIN:VEVENT
DTSTART;TZID=UTC:20190429T080000
DTEND;TZID=UTC:20190503T170000
DTSTAMP:20260424T011205
CREATED:20190403T201907Z
LAST-MODIFIED:20190403T201907Z
UID:421-1556524800-1556902800@www.ialeiajm.com
SUMMARY:2019 LEIU/IALEIA Annual Training Event
DESCRIPTION:Orlando\, Florida\nApril 29 – May 3\, 2019\n\n\n\nOfficial Website
URL:https://www.ialeiajm.com/event/2019-leiu-ialeia-annual-training-event/
LOCATION:Orlando\, Florida\, USA\, Orlando\, FL\, United States
CATEGORIES:IALEIA,IALEIA - Jamaica Chapter
ATTACH;FMTTYPE=image/png:https://www.ialeiajm.com/wp-content/uploads/2019/04/Orlando.png
END:VEVENT
END:VCALENDAR