BEGIN:VCALENDAR
VERSION:2.0
PRODID:-//IALEIA Jamaica Chapter - ECPv6.15.20//NONSGML v1.0//EN
CALSCALE:GREGORIAN
METHOD:PUBLISH
X-ORIGINAL-URL:https://www.ialeiajm.com
X-WR-CALDESC:Events for IALEIA Jamaica Chapter
REFRESH-INTERVAL;VALUE=DURATION:PT1H
X-Robots-Tag:noindex
X-PUBLISHED-TTL:PT1H
BEGIN:VTIMEZONE
TZID:UTC
BEGIN:STANDARD
TZOFFSETFROM:+0000
TZOFFSETTO:+0000
TZNAME:UTC
DTSTART:20250101T000000
END:STANDARD
END:VTIMEZONE
BEGIN:VEVENT
DTSTART;TZID=UTC:20260427T080000
DTEND;TZID=UTC:20260501T170000
DTSTAMP:20260423T221451
CREATED:20251022T194854Z
LAST-MODIFIED:20251022T194936Z
UID:1262-1777276800-1777654800@www.ialeiajm.com
SUMMARY:2026 LEIU / IALEIA Annual Training Event
DESCRIPTION:The 2026 LEIU / IALEIA Annual Training Event will be held on 27/04/2026 to 01/05/2026 in Orlando\, Florida. Further details can be found via the following link: https://web.cvent.com/event/fece0c63-b166-4ebb-bdfb-f09bfa56b29b/summary
URL:https://www.ialeiajm.com/event/2026-leiu-ialeia-annual-training-event/
END:VEVENT
BEGIN:VEVENT
DTSTART;TZID=UTC:20260513T100000
DTEND;TZID=UTC:20260513T120000
DTSTAMP:20260423T221451
CREATED:20260420T195235Z
LAST-MODIFIED:20260420T195235Z
UID:1307-1778666400-1778673600@www.ialeiajm.com
SUMMARY:IALEIA Jamaica Chapter - Business Meeting - May 13\, 2026
DESCRIPTION:
URL:https://www.ialeiajm.com/event/ialeia-jamaica-chapter-business-meeting-may-13-2026/
CATEGORIES:IALEIA - Jamaica Chapter
END:VEVENT
BEGIN:VEVENT
DTSTART;TZID=UTC:20260527T100000
DTEND;TZID=UTC:20260527T120000
DTSTAMP:20260423T221451
CREATED:20260420T195339Z
LAST-MODIFIED:20260420T195339Z
UID:1309-1779876000-1779883200@www.ialeiajm.com
SUMMARY:IALEIA Jamaica Chapter - Quarterly Chapter Meeting
DESCRIPTION:
URL:https://www.ialeiajm.com/event/ialeia-jamaica-chapter-quarterly-chapter-meeting/
LOCATION:Virtual
CATEGORIES:IALEIA - Jamaica Chapter
END:VEVENT
BEGIN:VEVENT
DTSTART;TZID=UTC:20260715T100000
DTEND;TZID=UTC:20260715T120000
DTSTAMP:20260423T221451
CREATED:20260420T195439Z
LAST-MODIFIED:20260420T195534Z
UID:1311-1784109600-1784116800@www.ialeiajm.com
SUMMARY:IALEIA Jamaica Chapter - Committee Meeting - July 15\, 2026
DESCRIPTION:
URL:https://www.ialeiajm.com/event/ialeia-jamaica-chapter-workshop-june-18-2026/
CATEGORIES:IALEIA - Jamaica Chapter
END:VEVENT
BEGIN:VEVENT
DTSTART;TZID=UTC:20260923T100000
DTEND;TZID=UTC:20260923T120000
DTSTAMP:20260423T221451
CREATED:20260420T200009Z
LAST-MODIFIED:20260420T200009Z
UID:1314-1790157600-1790164800@www.ialeiajm.com
SUMMARY:IALEIA Jamaica Chapter - Quarterly Chapter Meeting - September 23\, 2026
DESCRIPTION:
URL:https://www.ialeiajm.com/event/ialeia-jamaica-chapter-quarterly-chapter-meeting-september-23-2026/
CATEGORIES:IALEIA - Jamaica Chapter
END:VEVENT
BEGIN:VEVENT
DTSTART;TZID=UTC:20261117T080000
DTEND;TZID=UTC:20261117T170000
DTSTAMP:20260423T221451
CREATED:20260420T200058Z
LAST-MODIFIED:20260420T200936Z
UID:1316-1794902400-1794934800@www.ialeiajm.com
SUMMARY:CICA Examination
DESCRIPTION:Exact date to be confirmed.
URL:https://www.ialeiajm.com/event/cica-examination-3/
CATEGORIES:IALEIA - Jamaica Chapter
END:VEVENT
BEGIN:VEVENT
DTSTART;VALUE=DATE:20261118
DTEND;VALUE=DATE:20261119
DTSTAMP:20260423T221451
CREATED:20260420T200154Z
LAST-MODIFIED:20260420T200154Z
UID:1319-1794960000-1795046399@www.ialeiajm.com
SUMMARY:IALEIA Jamaica Chapter Annual Conference
DESCRIPTION:Exact date to be confirmed.
URL:https://www.ialeiajm.com/event/ialeia-jamaica-chapter-annual-conference/
CATEGORIES:IALEIA - Jamaica Chapter
END:VEVENT
BEGIN:VEVENT
DTSTART;TZID=UTC:20261125T080000
DTEND;TZID=UTC:20261125T170000
DTSTAMP:20260423T221451
CREATED:20260128T163641Z
LAST-MODIFIED:20260128T163641Z
UID:1292-1795593600-1795626000@www.ialeiajm.com
SUMMARY:IALEIA Jamaica Chapter Workshop
DESCRIPTION:
URL:https://www.ialeiajm.com/event/ialeia-jamaica-chapter-workshop-3/
CATEGORIES:IALEIA - Jamaica Chapter
END:VEVENT
BEGIN:VEVENT
DTSTART;TZID=UTC:20261209T100000
DTEND;TZID=UTC:20261209T120000
DTSTAMP:20260423T221451
CREATED:20260420T200419Z
LAST-MODIFIED:20260420T200419Z
UID:1321-1796810400-1796817600@www.ialeiajm.com
SUMMARY:IALEIA Jamaica Chapter - Committee Meeting
DESCRIPTION:
URL:https://www.ialeiajm.com/event/ialeia-jamaica-chapter-committee-meeting/
CATEGORIES:IALEIA - Jamaica Chapter
END:VEVENT
END:VCALENDAR