BEGIN:VCALENDAR
VERSION:2.0
PRODID:-//IALEIA Jamaica Chapter - ECPv6.15.20//NONSGML v1.0//EN
CALSCALE:GREGORIAN
METHOD:PUBLISH
X-WR-CALNAME:IALEIA Jamaica Chapter
X-ORIGINAL-URL:https://www.ialeiajm.com
X-WR-CALDESC:Events for IALEIA Jamaica Chapter
REFRESH-INTERVAL;VALUE=DURATION:PT1H
X-Robots-Tag:noindex
X-PUBLISHED-TTL:PT1H
BEGIN:VTIMEZONE
TZID:UTC
BEGIN:STANDARD
TZOFFSETFROM:+0000
TZOFFSETTO:+0000
TZNAME:UTC
DTSTART:20140101T000000
END:STANDARD
END:VTIMEZONE
BEGIN:VEVENT
DTSTART;VALUE=DATE:20201116
DTEND;VALUE=DATE:20201121
DTSTAMP:20260423T233816
CREATED:20201014T135649Z
LAST-MODIFIED:20201014T135649Z
UID:601-1605484800-1605916799@www.ialeiajm.com
SUMMARY:FIAT - November 2020
DESCRIPTION:Foundations of Intelligence Analysis Training (FIAT) \nMission \nThe FIAT Program provides quality analytic training\, using experienced analysts\, to members of the International Association of Law Enforcement Intelligence Analysts (IALEIA)\, the Association of Law Enforcement Intelligence Units (LEIU)\, and other interested parties at a reasonable cost on a regional basis. \n  \nFIAT Course Overview \nThe FIAT is a five-day introduction to the basics of law enforcement intelligence analysis. As the name indicates\, FIAT aims to provide a foundation\, a basic knowledge and understanding\, of the elements of the law enforcement analysis profession. It was designed to be an entry-level curriculum and meets the educational requirements for the IALEIA Criminal Intelligence Certified Analyst (CICA) certification process. Completion of the FIAT does not automatically provide certification. \nCourse topics include: \n\nIntroduction to Intelligence\nThe Intelligence Cycle\nLegal Issues/Ethics\nSources of Information\nCore Competencies\nNational Criminal Intelligence Sharing Plan\nCreative/Critical Thinking\nLogic and Inference Development\nAnalysis of Competing Hypotheses\nRecommendations Development\nCrime Analysis\nIndicator Development\nAssociation Analysis\nFlow Analysis\nFinancial Analysis\nStrategic Analysis\nCommunication Analysis\nProducts of Intelligence\nResources and References\n\nThe FIAT curriculum is guided by the National Criminal Intelligence Sharing Plan (NCISP) and the IALEIA/Global Justice Information Sharing Initiative’s Law Enforcement Analytic Standards. It is intended for civilian and sworn law enforcement\, as well as regulatory personnel who have not received formal\, basic\, intelligence analysis training. \nThe FIAT course is approved for agency funding reimbursement by U.S. Department of Homeland Security (DHS). DHS funding must be coordinated with the state grant coordinator. \nFIAT is a cooperative venture of the International Association of Law Enforcement Intelligence Analysts (IALEIA) and Law Enforcement Intelligence Unit (LEIU).
URL:https://www.ialeiajm.com/event/fiat-november-2020/
LOCATION:TBA
CATEGORIES:IALEIA - Jamaica Chapter
END:VEVENT
BEGIN:VEVENT
DTSTART;TZID=UTC:20201111T093000
DTEND;TZID=UTC:20201111T120000
DTSTAMP:20260423T233816
CREATED:20191023T150731Z
LAST-MODIFIED:20201106T204657Z
UID:538-1605087000-1605096000@www.ialeiajm.com
SUMMARY:IALEIA Jamaica Chapter Meeting – November 11\, 2020
DESCRIPTION:Agenda (Draft)  \n Virtual Meeting Time: 09:30 AM to 12:00 PM\n \n\nWelcome and Opening Remarks – IALEIA Jamaica Chapter President – Major (Rtd.) Dave Anderson \nRemarks – IALEIA Chapter Director – Mr. Philip Powell \nPresentation – “Plan Secure Jamaica: The National Strategic Plan for Jamaica” – Regional Intelligence and Security Officer\, Office of the National Security Advisor\, Cabinet Office – Mrs. Roxanne Darby \nDiscussion – Chapter Matters\, etc.  \nVote of Thanks \nNext Meeting – December 10\, 2020 \n \n \n\n 
URL:https://www.ialeiajm.com/event/ialeia-jamaica-chapter-meeting-december-2020/
LOCATION:TBA
CATEGORIES:IALEIA - Jamaica Chapter
END:VEVENT
BEGIN:VEVENT
DTSTART;VALUE=DATE:20200715
DTEND;VALUE=DATE:20200726
DTSTAMP:20260423T233816
CREATED:20200626T010704Z
LAST-MODIFIED:20200626T010704Z
UID:591-1594771200-1595721599@www.ialeiajm.com
SUMMARY:IALEIA Advanced Financial Analyst Seminar
DESCRIPTION:The IALEIA Advanced Financial Analyst Seminar is scheduled for July 15\, 2020 to July 25\, 2020. Selected members for this course will be informed by their respective organizations.
URL:https://www.ialeiajm.com/event/ialeia-advanced-financial-analyst-seminar/
LOCATION:TBA
CATEGORIES:IALEIA - Jamaica Chapter
END:VEVENT
BEGIN:VEVENT
DTSTART;VALUE=DATE:20200714
DTEND;VALUE=DATE:20200715
DTSTAMP:20260423T233816
CREATED:20200626T010516Z
LAST-MODIFIED:20200626T010516Z
UID:589-1594684800-1594771199@www.ialeiajm.com
SUMMARY:Online Meeting - IALEIA Jamaica Chapter
DESCRIPTION:On July 14\, 2020\, a Zoom meeting will be held by the IALEIA Jamaica Chapter.  \nFurther details on how to register for this event as well as the agenda\, will be provided in due course.
URL:https://www.ialeiajm.com/event/online-meeting-ialeia-jamaica-chapter/
LOCATION:TBA
CATEGORIES:IALEIA - Jamaica Chapter
END:VEVENT
BEGIN:VEVENT
DTSTART;TZID=UTC:20200624T080000
DTEND;TZID=UTC:20200624T170000
DTSTAMP:20260423T233816
CREATED:20191023T150521Z
LAST-MODIFIED:20200210T193659Z
UID:534-1592985600-1593018000@www.ialeiajm.com
SUMMARY:IALEIA Jamaica Chapter Meeting – June 2020
DESCRIPTION:
URL:https://www.ialeiajm.com/event/ialeia-jamaica-chapter-meeting-june-2020/
LOCATION:TBA
CATEGORIES:IALEIA - Jamaica Chapter
END:VEVENT
BEGIN:VEVENT
DTSTART;TZID=UTC:20200318T080000
DTEND;TZID=UTC:20200318T170000
DTSTAMP:20260423T233816
CREATED:20200210T193949Z
LAST-MODIFIED:20200210T193949Z
UID:586-1584518400-1584550800@www.ialeiajm.com
SUMMARY:IALEIA Jamaica Chapter Meeting – March 2020
DESCRIPTION:
URL:https://www.ialeiajm.com/event/ialeia-jamaica-chapter-meeting-march-2020/
LOCATION:TBA
CATEGORIES:IALEIA - Jamaica Chapter
END:VEVENT
BEGIN:VEVENT
DTSTART;VALUE=DATE:20191113
DTEND;VALUE=DATE:20191114
DTSTAMP:20260423T233816
CREATED:20190403T204318Z
LAST-MODIFIED:20191111T205954Z
UID:440-1573603200-1573689599@www.ialeiajm.com
SUMMARY:IALEIA Jamaica - Chapter Meeting / Seminar
DESCRIPTION:Registration for this Event is now closed.
URL:https://www.ialeiajm.com/event/ialeia-jamaica-chapter-meeting-3/
LOCATION:The Jamaica Pegasus\, 81 Knutsford Boulevard\, Kingston 5\, St. Andrew\,\, Jamaica
CATEGORIES:IALEIA - Jamaica Chapter
END:VEVENT
BEGIN:VEVENT
DTSTART;VALUE=DATE:20190710
DTEND;VALUE=DATE:20190711
DTSTAMP:20260423T233816
CREATED:20190403T203841Z
LAST-MODIFIED:20190406T123823Z
UID:436-1562716800-1562803199@www.ialeiajm.com
SUMMARY:IALEIA Jamaica - Chapter Meeting
DESCRIPTION:Members Only Meeting
URL:https://www.ialeiajm.com/event/ialeia-jamaica-chapter-meeting-2/
LOCATION:TBA
CATEGORIES:IALEIA - Jamaica Chapter
ATTACH;FMTTYPE=image/png:https://www.ialeiajm.com/wp-content/uploads/2019/04/IALEIA-MNS-300x174.png
END:VEVENT
BEGIN:VEVENT
DTSTART;VALUE=DATE:20190613
DTEND;VALUE=DATE:20190614
DTSTAMP:20260423T233816
CREATED:20190403T203634Z
LAST-MODIFIED:20190406T123829Z
UID:434-1560384000-1560470399@www.ialeiajm.com
SUMMARY:Technical Workshop - Analysis and the Role of an Analyst
DESCRIPTION:For Managers\, Supervisors and Investigators
URL:https://www.ialeiajm.com/event/technical-workshop-analysis-and-the-role-of-an-analyst/
LOCATION:TBA
CATEGORIES:IALEIA - Jamaica Chapter
ATTACH;FMTTYPE=image/png:https://www.ialeiajm.com/wp-content/uploads/2019/04/IALEIA-MNS-300x174.png
END:VEVENT
BEGIN:VEVENT
DTSTART;TZID=UTC:20190429T080000
DTEND;TZID=UTC:20190503T170000
DTSTAMP:20260423T233816
CREATED:20190403T201907Z
LAST-MODIFIED:20190403T201907Z
UID:421-1556524800-1556902800@www.ialeiajm.com
SUMMARY:2019 LEIU/IALEIA Annual Training Event
DESCRIPTION:Orlando\, Florida\nApril 29 – May 3\, 2019\n\n\n\nOfficial Website
URL:https://www.ialeiajm.com/event/2019-leiu-ialeia-annual-training-event/
LOCATION:Orlando\, Florida\, USA\, Orlando\, FL\, United States
CATEGORIES:IALEIA,IALEIA - Jamaica Chapter
ATTACH;FMTTYPE=image/png:https://www.ialeiajm.com/wp-content/uploads/2019/04/Orlando.png
END:VEVENT
BEGIN:VEVENT
DTSTART;VALUE=DATE:20170717
DTEND;VALUE=DATE:20170722
DTSTAMP:20260423T233816
CREATED:20161202T163059Z
LAST-MODIFIED:20161202T163059Z
UID:369-1500249600-1500681599@www.ialeiajm.com
SUMMARY:Foundations of Intelligence Analysis Training - FIAT
DESCRIPTION:Foundations of Intelligence Analysis Training – FIAT
URL:https://www.ialeiajm.com/event/foundations-of-intelligence-analysis-training-fiat/
LOCATION:TBA
END:VEVENT
BEGIN:VEVENT
DTSTART;TZID=UTC:20170118T140000
DTEND;TZID=UTC:20170118T170000
DTSTAMP:20260423T233816
CREATED:20161202T162538Z
LAST-MODIFIED:20161202T162721Z
UID:366-1484748000-1484758800@www.ialeiajm.com
SUMMARY:IALEIA Jamaica Chapter Meeting
DESCRIPTION:IALEIA Jamaica Chapter Meeting
URL:https://www.ialeiajm.com/event/ialeia-jamaica-chapter-meeting/
LOCATION:TBA
END:VEVENT
BEGIN:VEVENT
DTSTART;TZID=UTC:20160630T080000
DTEND;TZID=UTC:20160630T170000
DTSTAMP:20260423T233816
CREATED:20150928T223949Z
LAST-MODIFIED:20150928T223949Z
UID:341-1467273600-1467306000@www.ialeiajm.com
SUMMARY:June 2016 - FIAT (Caribbean) - Kingston\, Jamaica
DESCRIPTION:
URL:https://www.ialeiajm.com/event/june-2016-fiat-caribbean-kingston-jamaica/
END:VEVENT
BEGIN:VEVENT
DTSTART;TZID=UTC:20160425T080000
DTEND;TZID=UTC:20160429T170000
DTSTAMP:20260423T233816
CREATED:20150928T220417Z
LAST-MODIFIED:20150928T221740Z
UID:337-1461571200-1461949200@www.ialeiajm.com
SUMMARY:IALEIA/LEIU 2016 Intelligence Conference
DESCRIPTION:New Orleans (April 25-29\, 2016)\n\n\n\n\n\n\n\n\n\n  \nTraining Event Location & Reservations: (training will be at the Hilton) \nNew Orleans Riverside; Two Poydras Street\, New Orleans\, Louisiana Tel: (504) 561-0500 \nhttp://www3.hilton.com/en/hotels/louisiana/hilton-new-orleans-riverside-MSYNHHH/index.html \nRoom Rates: Federal Per Diem Single/Double: $160 (USD) per night plus taxes/assessments $26.60 (USD) per night. \nIf you have any questions feel free to contact LEIU Executive Director Bob Morehouse at (916)704-4949.
URL:https://www.ialeiajm.com/event/ialeialeiu-2016-intelligence-conference/
LOCATION:New Orleans Riverside\, Two Poydras Street\, New Orleans\, Louisiana\, United States
END:VEVENT
BEGIN:VEVENT
DTSTART;TZID=UTC:20160131T080000
DTEND;TZID=UTC:20160131T170000
DTSTAMP:20260423T233816
CREATED:20150928T223834Z
LAST-MODIFIED:20150929T201115Z
UID:340-1454227200-1454259600@www.ialeiajm.com
SUMMARY:January 2016 Seminar - Kingston\, Jamaica
DESCRIPTION:
URL:https://www.ialeiajm.com/event/january-2016-seminar-kingston-jamaica/
END:VEVENT
BEGIN:VEVENT
DTSTART;TZID=UTC:20150930T080000
DTEND;TZID=UTC:20150930T170000
DTSTAMP:20260423T233816
CREATED:20150928T223736Z
LAST-MODIFIED:20150928T223736Z
UID:339-1443600000-1443632400@www.ialeiajm.com
SUMMARY:November Seminar - Kingston\, Jamaica
DESCRIPTION:
URL:https://www.ialeiajm.com/event/november-seminar-kingston-jamaica/
END:VEVENT
BEGIN:VEVENT
DTSTART;TZID=UTC:20150917T080000
DTEND;TZID=UTC:20150917T170000
DTSTAMP:20260423T233816
CREATED:20150902T152739Z
LAST-MODIFIED:20150928T214943Z
UID:294-1442476800-1442509200@www.ialeiajm.com
SUMMARY:IALEIA Jamaica Chapter - Technical Workshop - September 2015
DESCRIPTION:One-Day Technical Workshop \nWhen: Thursday September 17\, 2015\, 7:30am – 5:30pm \nWhere: Jamaica Pegasus Hotel\, 81 Knutsford Blvd.\, Kingston 5
URL:https://www.ialeiajm.com/event/ialeia-jamaica-chapter-technical-workshop-registration-form/
LOCATION:The Jamaica Pegasus\, 81 Knutsford Boulevard\, Kingston 5\, St. Andrew\,\, Jamaica
END:VEVENT
BEGIN:VEVENT
DTSTART;TZID=UTC:20150504T080000
DTEND;TZID=UTC:20150508T170000
DTSTAMP:20260423T233816
CREATED:20150928T220155Z
LAST-MODIFIED:20150928T220155Z
UID:335-1430726400-1431104400@www.ialeiajm.com
SUMMARY:IALEIA/LEIU 2015 Intelligence Conference
DESCRIPTION:IALEIA \nPhoenix\, Arizona
URL:https://www.ialeiajm.com/event/ialeialeiu-2015-intelligence-conference/
LOCATION:Arizona Grand\, 8000 S Arizona Grand Pkwy\, Phoenix\, AZ 85044\, United States
END:VEVENT
BEGIN:VEVENT
DTSTART;TZID=UTC:20150323T080000
DTEND;TZID=UTC:20150327T170000
DTSTAMP:20260423T233816
CREATED:20150928T215748Z
LAST-MODIFIED:20150928T215845Z
UID:334-1427097600-1427475600@www.ialeiajm.com
SUMMARY:IALEIA Jamaica Chapter – FIAT Course – March 2015
DESCRIPTION:Five-Day Analyst Course \nWhen: March 23- March 27\, 2015\, 7:30am – 5:30pm \nWhere: Jamaica Pegasus Hotel\, 81 Knutsford Blvd.\, Kingston 5
URL:https://www.ialeiajm.com/event/ialeia-jamaica-chapter-fiat-course-march-2015/
LOCATION:The Jamaica Pegasus\, 81 Knutsford Boulevard\, Kingston 5\, St. Andrew\,\, Jamaica
END:VEVENT
BEGIN:VEVENT
DTSTART;TZID=UTC:20150318T080000
DTEND;TZID=UTC:20150319T170000
DTSTAMP:20260423T233816
CREATED:20150928T215351Z
LAST-MODIFIED:20150928T215535Z
UID:333-1426665600-1426784400@www.ialeiajm.com
SUMMARY:IALEIA Jamaica Chapter – Technical Workshop – March 2015
DESCRIPTION:One-Day Technical Workshop \nWhen: Wednesday March 18\, 2015\, 7:30am – 5:30pm \n               Thursday March 19\, 2015\, 7:30am – 5:30pm \nWhere: Jamaica Pegasus Hotel\, 81 Knutsford Blvd.\, Kingston 5
URL:https://www.ialeiajm.com/event/ialeia-jamaica-chapter-technical-workshop-march-2015/
LOCATION:The Jamaica Pegasus\, 81 Knutsford Boulevard\, Kingston 5\, St. Andrew\,\, Jamaica
END:VEVENT
END:VCALENDAR