BEGIN:VCALENDAR
VERSION:2.0
PRODID:-//IALEIA Jamaica Chapter - ECPv6.15.20//NONSGML v1.0//EN
CALSCALE:GREGORIAN
METHOD:PUBLISH
X-ORIGINAL-URL:https://www.ialeiajm.com
X-WR-CALDESC:Events for IALEIA Jamaica Chapter
REFRESH-INTERVAL;VALUE=DURATION:PT1H
X-Robots-Tag:noindex
X-PUBLISHED-TTL:PT1H
BEGIN:VTIMEZONE
TZID:UTC
BEGIN:STANDARD
TZOFFSETFROM:+0000
TZOFFSETTO:+0000
TZNAME:UTC
DTSTART:20220101T000000
END:STANDARD
END:VTIMEZONE
BEGIN:VEVENT
DTSTART;TZID=UTC:20231122T100000
DTEND;TZID=UTC:20231122T170000
DTSTAMP:20260426T041336
CREATED:20231117T153316Z
LAST-MODIFIED:20231122T173118Z
UID:866-1700647200-1700672400@www.ialeiajm.com
SUMMARY:IALEIA Jamaica Virtual Chapter Meeting
DESCRIPTION:The IALEIA Jamaica Chapter will host a Virtual Chapter Meeting scheduled for Wednesday November 22\, 2023 at 10:00 AM. \nThe Guest Presenter is Mr. Gerald Connor – Director of the Office of National Security Strategic Intelligence\, St. Kitts and Nevis.  \nThe title of Mr. Connor’s Presentation will be “Security Threats and Challenges in the Caribbean”. \nMr. Connor will be introduced by Dr. Lionel Rawlins\, National Security Advisor\, St. Kitts and Nevis. \nThe Presentation and biographical details can be found at this link. \n  \n 
URL:https://www.ialeiajm.com/event/ialeia-jamaica-virtual-chapter-meeting/
END:VEVENT
END:VCALENDAR